View In:
ArcGIS JavaScript
ArcGIS Online Map Viewer
ArcGIS Earth
ArcMap
View Footprint In:
ArcGIS Online Map Viewer
Service Description: USGS The National Map: ImageryThe USGS NAIP Imagery service from The National Map consists of 4-band high resolution images that combine the visual attributes of an aerial photograph with the spatial accuracy and reliability of a map. Resolution of National Agriculture Imagery Program (NAIP) data is most commonly 1 meter, which means that every pixel in the digital orthoimage covers a one meter square of the earth’s surface. Some states to include Wyoming and New York began collection of 0.5 meter pixel resolution NAIP in 2015. Many states contribute orthoimagery to The National Map, and USGS relies on a partnership with the U.S. Department of Agriculture’s Farm Service Agency for NAIP data. The USGS NAIP Imagery service is a mosaic of natural color and color infrared (4-band) aerial imagery, containing NAIP and other imagery sources to complete the mosaic. The National Map download client allows free downloads of public domain compressed orthoimagery in JPEG 2000 (.jp2) format for the conterminous United States, with many urban areas and other locations at 1-foot (or better) resolution, also in JPEG 2000 (.jp2) format. For additional information on orthoimagery, go to https://nationalmap.gov/ortho.html.
Name: USGSNAIPImagery
Description: USGS The National Map: ImageryThe USGS NAIP Imagery service from The National Map consists of 4-band high resolution images that combine the visual attributes of an aerial photograph with the spatial accuracy and reliability of a map. Resolution of National Agriculture Imagery Program (NAIP) data is most commonly 1 meter, which means that every pixel in the digital orthoimage covers a one meter square of the earth’s surface. Some states to include Wyoming and New York began collection of 0.5 meter pixel resolution NAIP in 2015. Many states contribute orthoimagery to The National Map, and USGS relies on a partnership with the U.S. Department of Agriculture’s Farm Service Agency for NAIP data. The USGS NAIP Imagery service is a mosaic of natural color and color infrared (4-band) aerial imagery, containing NAIP and other imagery sources to complete the mosaic. The National Map download client allows free downloads of public domain compressed orthoimagery in JPEG 2000 (.jp2) format for the conterminous United States, with many urban areas and other locations at 1-foot (or better) resolution, also in JPEG 2000 (.jp2) format. For additional information on orthoimagery, go to https://nationalmap.gov/ortho.html.
Single Fused Map Cache: false
Extent:
XMin: -1.3894066619645562E7
YMin: 2814451.013328054
XMax: -7451447.81964763
YMax: 6349427.813326919
Spatial Reference: 102100
(3857)
Initial Extent:
XMin: -1.3894066619645562E7
YMin: 2814451.013328054
XMax: -7451447.81964763
YMax: 6349427.813326919
Spatial Reference: 102100
(3857)
Full Extent:
XMin: -1.3894066619645562E7
YMin: 2814451.013328054
XMax: -7451447.81964763
YMax: 6349427.813326919
Spatial Reference: 102100
(3857)
Pixel Size X: 0.5999999999998075
Pixel Size Y: 0.5999999999998075
Band Count: 4
Pixel Type: U8
RasterFunction Infos: {"rasterFunctionInfos": [{
"name": "None",
"description": "",
"help": ""
}]}
Mensuration Capabilities: None
Has Histograms: true
Has Colormap: false
Has Multi Dimensions : false
Rendering Rule:
Min Scale: 0
Max Scale: 0
Copyright Text: USGS The National Map: Imagery
Service Data Type: esriImageServiceDataTypeGeneric
Min Values: 0, 0, 0, 0
Max Values: 255, 255, 255, 255
Mean Values: 134.07632633311673, 129.60047948876573, 108.51083901108424, 164.5160709858126
Standard Deviation Values: 37.58664924227551, 28.46677852461226, 23.08438766837737, 44.40703258426196
Object ID Field: OBJECTID
Fields:
-
OBJECTID
(
type: esriFieldTypeOID, alias: OBJECTID
)
-
Shape
(
type: esriFieldTypeGeometry, alias: Shape
)
-
Name
(
type: esriFieldTypeString, alias: Name, length: 200
)
-
MinPS
(
type: esriFieldTypeDouble, alias: MinPS
)
-
MaxPS
(
type: esriFieldTypeDouble, alias: MaxPS
)
-
LowPS
(
type: esriFieldTypeDouble, alias: LowPS
)
-
HighPS
(
type: esriFieldTypeDouble, alias: HighPS
)
-
Category
(
type: esriFieldTypeInteger, alias: Category
,
Coded Values:
[0: Unknown]
,
[1: Primary]
,
[2: Overview]
, ...6 more...
)
-
Tag
(
type: esriFieldTypeString, alias: Tag, length: 100
)
-
GroupName
(
type: esriFieldTypeString, alias: GroupName, length: 100
)
-
ProductName
(
type: esriFieldTypeString, alias: ProductName, length: 100
)
-
CenterX
(
type: esriFieldTypeDouble, alias: CenterX
)
-
CenterY
(
type: esriFieldTypeDouble, alias: CenterY
)
-
ZOrder
(
type: esriFieldTypeInteger, alias: ZOrder
)
-
Shape_Length
(
type: esriFieldTypeDouble, alias: Shape_Length
)
-
Shape_Area
(
type: esriFieldTypeDouble, alias: Shape_Area
)
Default Mosaic Method: Northwest
Allowed Mosaic Methods: NorthWest,Center,LockRaster,ByAttribute,Nadir,Viewpoint,Seamline,None
SortField:
SortValue: null
Mosaic Operator: First
Default Compression Quality: 75
Default Resampling Method: Bilinear
Max Record Count: 1000
Max Image Height: 4100
Max Image Width: 15000
Max Download Image Count: 20
Max Mosaic Image Count: 20
Allow Raster Function: true
Allow Compute TiePoints: false
Supports Statistics: true
Supports Advanced Queries: true
Use StandardizedQueries: true
Raster Type Infos:
Name: Raster Dataset
Description: Supports all ArcGIS Raster Datasets
Help:
Has Raster Attribute Table: false
Edit Fields Info: null
Ownership Based AccessControl For Rasters: null
Child Resources:
Info
Histograms
Key Properties
Legend
MultiDimensionalInfo
rasterFunctionInfos
Supported Operations:
Export Image
Query
Identify
Compute Histograms
Compute Statistics Histograms
Get Samples
Compute Class Statistics
Query Boundary
Compute Pixel Location